Workbook

Sheet データ入力シート
A1: 黄色の太枠内にチーム名とスタッフ名、18名の登録選手名を入力してください。
A2: (登録選手は申込時の18名です。変更は不可となっています。）
A4: チーム名 | C4: 〇〇高等学校
A5: 監督 | C5: A
A6: コーチ | C6: B
A7: マネージャー | C7: C | E7: ※このシートに入力後、「印刷①」、「印刷②」をプリントアウトして
A8: 記録員 | C8: D | E8: 大会当日に持参してください。
A9: 登録選手 番号 | B9: 1 | C9: あ
B10: 2 | C10: い
B11: 3 | C11: う
B12: 4 | C12: え
B13: 5 | C13: お
B14: 6 | C14: か
B15: 7 | C15: き
B16: 8 | C16: く
B17: 9 | C17: け
B18: 10 | C18: こ
B19: 11 | C19: さ
B20: 12 | C20: し
B21: 13 | C21: す
... B26: 18 | C26: つ

Sheet 印刷①
A2: 令和７年度
A3: 第６０回鹿児島・宮崎対県高校バレーボール大会
F5: エントリー用紙
E7: チーム名 | H7: =データ入力シート!C4 -> 〇〇高等学校
B9: 監 督 | D9: =IF(データ入力シート!C5="","",データ入力シート!C5) -> A | N9: コーチ | P9: =IF(データ入力シート!C6="","",データ入力シート!C6) -> B
B11: ﾏﾈｰｼﾞｬｰ | D11: =IF(データ入力シート!C7="","",データ入力シート!C7) -> C | N11: 記録員 | P11: =IF(データ入力シート!C8="","",データ入力シート!C8) -> D
L13: 第1日(3月7日) | R13: 第2日(3月8日)
A14: 背番号 | D14: 選 手 名 | L14: 第1試合 | N14: 第2試合 | P14: 第3試合 | R14: 第4試合 | T14: 第5試合
A15: 1 | D15: =IF(データ入力シート!C9="","",データ入力シート!C9) -> あ
A16: 2 | D16: =IF(データ入力シート!C10="","",データ入力シート!C10) -> い
A17: 3 | D17: =IF(データ入力シート!C11="","",データ入力シート!C11) -> う
A18: 4 | D18: =IF(データ入力シート!C12="","",データ入力シート!C12) -> え
A19: 5 | D19: =IF(データ入力シート!C13="","",データ入力シート!C13) -> お
A20: 6 | D20: =IF(データ入力シート!C14="","",データ入力シート!C14) -> か
A21: 7 | D21: =IF(データ入力シート!C15="","",データ入力シート!C15) -> き
A22: 8 | D22: =IF(データ入力シート!C16="","",データ入力シート!C16) -> く
A23: 9 | D23: =IF(データ入力シート!C17="","",データ入力シート!C17) -> け
A24: 10 | D24: =IF(データ入力シート!C18="","",データ入力シート!C18) -> こ
A25: 11 | D25: =IF(データ入力シート!C19="","",データ入力シート!C19) -> さ
A26: 12 | D26: =IF(データ入力シート!C20="","",データ入力シート!C20) -> し
... A32: 18 | D32: =IF(データ入力シート!C26="","",データ入力シート!C26) -> つ
A33: 主将サイン
A34: 監督サイン
B36: ※ キャプテンの背番号に○印をつけてください。
B37: ※ 各試合のエントリー選手に○印をして提出してください。
B38: ※ リベロプレーヤーは○印の中にＬを記入して提出してください。
B39: ※ 大会を通して変更のないチームはチーム名に○をして提出してください。

Sheet 印刷②
A1: エントリー用紙（記録用紙貼付用）
B3: 18名の登録選手の中から、試合に出る14名を選出し番号を入力すると、選手名が表示されるようになっています。 試合ごとのエントリーをあらかじめ何パターンか想定していただき、印刷したものを太枠に沿って切り取り、大会当日に 持参していただけると助かります。ご協力よろしくお願いします。（試合ごとに提出してもらいますので最低5枚必要です。） ※主将の番号に〇を付け、監督・主将のサインを手書きして提出してください。
A7: ○ | B7: チーム名 | D7: ○ | E7: チーム名 | G7: ○ | H7: チーム名 | J7: ○ | K7: チーム名
B8: =データ入力シート!$C$4 -> 〇〇高等学校 | E8: =データ入力シート!$C$4 -> 〇〇高等学校 | H8: =データ入力シート!$C$4 -> 〇〇高等学校 | K8: 〇〇高等学校
A9: 番号 | B9: 氏 名 | D9: 番号 | E9: 氏 名 | G9: 番号 | H9: 氏 名 | J9: 番号 | K9: 氏 名
A10: 1 | B10: =IF($A10="","",VLOOKUP($A10,データ入力シート!$B$9:$C$26,2,FALSE)) -> あ | D10: 1 | E10: =IF($D10="","",VLOOKUP($D10,データ入力シート!$B$9:$C$26,2,FALSE)) -> あ | G10: 1 | H10: =IF($G10="","",VLOOKUP($G10,データ入力シート!$B$9:$C$26,2,FALSE)) -> あ | J10: 1 | K10: =IF($J10="","",VLOOKUP($J10,データ入力シート!$B$9:$C$26,2,FALSE)) -> あ
A11: 2 | B11: =IF($A11="","",VLOOKUP($A11,データ入力シート!$B$9:$C$26,2,FALSE)) -> い | D11: 2 | E11: =IF($D11="","",VLOOKUP($D11,データ入力シート!$B$9:$C$26,2,FALSE)) -> い | G11: 2 | H11: =IF($G11="","",VLOOKUP($G11,データ入力シート!$B$9:$C$26,2,FALSE)) -> い | J11: 2 | K11: =IF($J11="","",VLOOKUP($J11,データ入力シート!$B$9:$C$26,2,FALSE)) -> い
A12: 3 | B12: =IF($A12="","",VLOOKUP($A12,データ入力シート!$B$9:$C$26,2,FALSE)) -> う | D12: 3 | E12: =IF($D12="","",VLOOKUP($D12,データ入力シート!$B$9:$C$26,2,FALSE)) -> う | G12: 3 | H12: =IF($G12="","",VLOOKUP($G12,データ入力シート!$B$9:$C$26,2,FALSE)) -> う | J12: 3 | K12: =IF($J12="","",VLOOKUP($J12,データ入力シート!$B$9:$C$26,2,FALSE)) -> う
A13: 4 | B13: =IF($A13="","",VLOOKUP($A13,データ入力シート!$B$9:$C$26,2,FALSE)) -> え | D13: 4 | E13: =IF($D13="","",VLOOKUP($D13,データ入力シート!$B$9:$C$26,2,FALSE)) -> え | G13: 4 | H13: =IF($G13="","",VLOOKUP($G13,データ入力シート!$B$9:$C$26,2,FALSE)) -> え | J13: 4 | K13: =IF($J13="","",VLOOKUP($J13,データ入力シート!$B$9:$C$26,2,FALSE)) -> え
A14: 5 | B14: =IF($A14="","",VLOOKUP($A14,データ入力シート!$B$9:$C$26,2,FALSE)) -> お | E14: =IF($D14="","",VLOOKUP($D14,データ入力シート!$B$9:$C$26,2,FALSE)) | G14: 5 | H14: =IF($G14="","",VLOOKUP($G14,データ入力シート!$B$9:$C$26,2,FALSE)) -> お | K14: =IF($J14="","",VLOOKUP($J14,データ入力シート!$B$9:$C$26,2,FALSE))
A15: 6 | B15: =IF($A15="","",VLOOKUP($A15,データ入力シート!$B$9:$C$26,2,FALSE)) -> か | D15: 6 | E15: =IF($D15="","",VLOOKUP($D15,データ入力シート!$B$9:$C$26,2,FALSE)) -> か | G15: 6 | H15: =IF($G15="","",VLOOKUP($G15,データ入力シート!$B$9:$C$26,2,FALSE)) -> か | J15: 6 | K15: =IF($J15="","",VLOOKUP($J15,データ入力シート!$B$9:$C$26,2,FALSE)) -> か
A16: 7 | B16: =IF($A16="","",VLOOKUP($A16,データ入力シート!$B$9:$C$26,2,FALSE)) -> き | D16: 7 | E16: =IF($D16="","",VLOOKUP($D16,データ入力シート!$B$9:$C$26,2,FALSE)) -> き | G16: 7 | H16: =IF($G16="","",VLOOKUP($G16,データ入力シート!$B$9:$C$26,2,FALSE)) -> き | J16: 7 | K16: =IF($J16="","",VLOOKUP($J16,データ入力シート!$B$9:$C$26,2,FALSE)) -> き
A17: 8 | B17: =IF($A17="","",VLOOKUP($A17,データ入力シート!$B$9:$C$26,2,FALSE)) -> く | D17: 8 | E17: =IF($D17="","",VLOOKUP($D17,データ入力シート!$B$9:$C$26,2,FALSE)) -> く | G17: 8 | H17: =IF($G17="","",VLOOKUP($G17,データ入力シート!$B$9:$C$26,2,FALSE)) -> く | K17: =IF($J17="","",VLOOKUP($J17,データ入力シート!$B$9:$C$26,2,FALSE))
A18: 9 | B18: =IF($A18="","",VLOOKUP($A18,データ入力シート!$B$9:$C$26,2,FALSE)) -> け | D18: 9 | E18: =IF($D18="","",VLOOKUP($D18,データ入力シート!$B$9:$C$26,2,FALSE)) -> け | G18: 9 | H18: =IF($G18="","",VLOOKUP($G18,データ入力シート!$B$9:$C$26,2,FALSE)) -> け | J18: 9 | K18: =IF($J18="","",VLOOKUP($J18,データ入力シート!$B$9:$C$26,2,FALSE)) -> け
A19: 10 | B19: =IF($A19="","",VLOOKUP($A19,データ入力シート!$B$9:$C$26,2,FALSE)) -> こ | D19: 10 | E19: =IF($D19="","",VLOOKUP($D19,データ入力シート!$B$9:$C$26,2,FALSE)) -> こ | G19: 10 | H19: =IF($G19="","",VLOOKUP($G19,データ入力シート!$B$9:$C$26,2,FALSE)) -> こ | J19: 10 | K19: =IF($J19="","",VLOOKUP($J19,データ入力シート!$B$9:$C$26,2,FALSE)) -> こ
A20: 11 | B20: =IF($A20="","",VLOOKUP($A20,データ入力シート!$B$9:$C$26,2,FALSE)) -> さ | D20: 11 | E20: =IF($D20="","",VLOOKUP($D20,データ入力シート!$B$9:$C$26,2,FALSE)) -> さ | H20: =IF($G20="","",VLOOKUP($G20,データ入力シート!$B$9:$C$26,2,FALSE)) | J20: 11 | K20: =IF($J20="","",VLOOKUP($J20,データ入力シート!$B$9:$C$26,2,FALSE)) -> さ
A21: 12 | B21: =IF($A21="","",VLOOKUP($A21,データ入力シート!$B$9:$C$26,2,FALSE)) -> し | D21: 12 | E21: =IF($D21="","",VLOOKUP($D21,データ入力シート!$B$9:$C$26,2,FALSE)) -> し | G21: 12 | H21: =IF($G21="","",VLOOKUP($G21,データ入力シート!$B$9:$C$26,2,FALSE)) -> し | J21: 12 | K21: =IF($J21="","",VLOOKUP($J21,データ入力シート!$B$9:$C$26,2,FALSE)) -> し
B22: =IF($A22="","",VLOOKUP($A22,データ入力シート!$B$9:$C$26,2,FALSE)) | D22: 13 | E22: =IF($D22="","",VLOOKUP($D22,データ入力シート!$B$9:$C$26,2,FALSE)) -> す | G22: 13 | H22: =IF($G22="","",VLOOKUP($G22,データ入力シート!$B$9:$C$26,2,FALSE)) -> す | J22: 13 | K22: =IF($J22="","",VLOOKUP($J22,データ入力シート!$B$9:$C$26,2,FALSE)) -> す
B23: =IF($A23="","",VLOOKUP($A23,データ入力シート!$B$9:$C$26,2,FALSE)) | D23: 14 | E23: =IF($D23="","",VLOOKUP($D23,データ入力シート!$B$9:$C$26,2,FALSE)) -> せ | G23: 14 | H23: =IF($G23="","",VLOOKUP($G23,データ入力シート!$B$9:$C$26,2,FALSE)) -> せ | J23: 14 | K23: =IF($J23="","",VLOOKUP($J23,データ入力シート!$B$9:$C$26,2,FALSE)) -> せ
A24: リベロ | D24: リベロ | G24: リベロ | J24: リベロ
B25: =IF($A25="","",VLOOKUP($A25,データ入力シート!$B$9:$C$26,2,FALSE)) | D25: 15 | E25: =IF($D25="","",VLOOKUP($D25,データ入力シート!$B$9:$C$26,2,FALSE)) -> そ | G25: 17 | H25: =IF($G25="","",VLOOKUP($G25,データ入力シート!$B$9:$C$26,2,FALSE)) -> ち | J25: 17 | K25: =IF($J25="","",VLOOKUP($J25,データ入力シート!$B$9:$C$26,2,FALSE)) -> ち
A26: 14 | B26: =IF($A26="","",VLOOKUP($A26,データ入力シート!$B$9:$C$26,2,FALSE)) -> せ | D26: 16 | E26: =IF($D26="","",VLOOKUP($D26,データ入力シート!$B$9:$C$26,2,FALSE)) -> た | G26: 18 | H26: =IF($G26="","",VLOOKUP($G26,データ入力シート!$B$9:$C$26,2,FALSE)) -> つ | J26: 18 | K26: =IF($J26="","",VLOOKUP($J26,データ入力シート!$B$9:$C$26,2,FALSE)) -> つ
A27: 主将（サイン) | D27: 主将（サイン) | G27: 主将（サイン) | J27: 主将（サイン)
A28: 監督（サイン） | D28: 監督（サイン） | G28: 監督（サイン） | J28: 監督（サイン）
A30: ○ | B30: チーム名 | D30: ○ | E30: チーム名 | G30: ○ | H30: チーム名 | J30: ○ | K30: チーム名
B31: =データ入力シート!$C$4 -> 〇〇高等学校 | E31: =データ入力シート!$C$4 -> 〇〇高等学校 | H31: =データ入力シート!$C$4 -> 〇〇高等学校 | K31: =データ入力シート!$C$4 -> 〇〇高等学校
A32: 番号 | B32: 氏 名 | D32: 番号 | E32: 氏 名 | G32: 番号 | H32: 氏 名 | J32: 番号 | K32: 氏 名
A33: 1 | B33: =IF($A33="","",VLOOKUP($A33,データ入力シート!$B$9:$C$26,2,FALSE)) -> あ | D33: 1 | E33: =IF($D33="","",VLOOKUP($D33,データ入力シート!$B$9:$C$26,2,FALSE)) -> あ | G33: 1 | H33: =IF($G33="","",VLOOKUP($G33,データ入力シート!$B$9:$C$26,2,FALSE)) -> あ | J33: 1 | K33: =IF($J33="","",VLOOKUP($J33,データ入力シート!$B$9:$C$26,2,FALSE)) -> あ
A34: 18 | B34: =IF($A34="","",VLOOKUP($A34,データ入力シート!$B$9:$C$26,2,FALSE)) -> つ | D34: 2 | E34: =IF($D34="","",VLOOKUP($D34,データ入力シート!$B$9:$C$26,2,FALSE)) -> い | G34: 2 | H34: =IF($G34="","",VLOOKUP($G34,データ入力シート!$B$9:$C$26,2,FALSE)) -> い | J34: 2 | K34: =IF($J34="","",VLOOKUP($J34,データ入力シート!$B$9:$C$26,2,FALSE)) -> い
A35: 3 | B35: =IF($A35="","",VLOOKUP($A35,データ入力シート!$B$9:$C$26,2,FALSE)) -> う | D35: 3 | E35: =IF($D35="","",VLOOKUP($D35,データ入力シート!$B$9:$C$26,2,FALSE)) -> う | G35: 3 | H35: =IF($G35="","",VLOOKUP($G35,データ入力シート!$B$9:$C$26,2,FALSE)) -> う | J35: 3 | K35: =IF($J35="","",VLOOKUP($J35,データ入力シート!$B$9:$C$26,2,FALSE)) -> う
A36: 4 | B36: =IF($A36="","",VLOOKUP($A36,データ入力シート!$B$9:$C$26,2,FALSE)) -> え | D36: 4 | E36: =IF($D36="","",VLOOKUP($D36,データ入力シート!$B$9:$C$26,2,FALSE)) -> え | G36: 4 | H36: =IF($G36="","",VLOOKUP($G36,データ入力シート!$B$9:$C$26,2,FALSE)) -> え | J36: 4 | K36: =IF($J36="","",VLOOKUP($J36,データ入力シート!$B$9:$C$26,2,FALSE)) -> え
A37: 5 | B37: =IF($A37="","",VLOOKUP($A37,データ入力シート!$B$9:$C$26,2,FALSE)) -> お | D37: 5 | E37: =IF($D37="","",VLOOKUP($D37,データ入力シート!$B$9:$C$26,2,FALSE)) -> お | G37: 5 | H37: =IF($G37="","",VLOOKUP($G37,データ入力シート!$B$9:$C$26,2,FALSE)) -> お | J37: 5 | K37: =IF($J37="","",VLOOKUP($J37,データ入力シート!$B$9:$C$26,2,FALSE)) -> お
A38: 6 | B38: =IF($A38="","",VLOOKUP($A38,データ入力シート!$B$9:$C$26,2,FALSE)) -> か | D38: 15 | E38: =IF($D38="","",VLOOKUP($D38,データ入力シート!$B$9:$C$26,2,FALSE)) -> そ | H38: =IF($G38="","",VLOOKUP($G38,データ入力シート!$B$9:$C$26,2,FALSE)) | J38: 6 | K38: =IF($J38="","",VLOOKUP($J38,データ入力シート!$B$9:$C$26,2,FALSE)) -> か
A39: 7 | B39: =IF($A39="","",VLOOKUP($A39,データ入力シート!$B$9:$C$26,2,FALSE)) -> き | D39: 7 | E39: =IF($D39="","",VLOOKUP($D39,データ入力シート!$B$9:$C$26,2,FALSE)) -> き | G39: 7 | H39: =IF($G39="","",VLOOKUP($G39,データ入力シート!$B$9:$C$26,2,FALSE)) -> き | J39: 7 | K39: =IF($J39="","",VLOOKUP($J39,データ入力シート!$B$9:$C$26,2,FALSE)) -> き
A40: 8 | B40: =IF($A40="","",VLOOKUP($A40,データ入力シート!$B$9:$C$26,2,FALSE)) -> く | D40: 8 | E40: =IF($D40="","",VLOOKUP($D40,データ入力シート!$B$9:$C$26,2,FALSE)) -> く | G40: 8 | H40: =IF($G40="","",VLOOKUP($G40,データ入力シート!$B$9:$C$26,2,FALSE)) -> く | J40: 8 | K40: =IF($J40="","",VLOOKUP($J40,データ入力シート!$B$9:$C$26,2,FALSE)) -> く
A41: 9 | B41: =IF($A41="","",VLOOKUP($A41,データ入力シート!$B$9:$C$26,2,FALSE)) -> け | D41: 9 | E41: =IF($D41="","",VLOOKUP($D41,データ入力シート!$B$9:$C$26,2,FALSE)) -> け | G41: 9 | H41: =IF($G41="","",VLOOKUP($G41,データ入力シート!$B$9:$C$26,2,FALSE)) -> け | J41: 9 | K41: =IF($J41="","",VLOOKUP($J41,データ入力シート!$B$9:$C$26,2,FALSE)) -> け
B42: =IF($A42="","",VLOOKUP($A42,データ入力シート!$B$9:$C$26,2,FALSE)) | D42: 10 | E42: =IF($D42="","",VLOOKUP($D42,データ入力シート!$B$9:$C$26,2,FALSE)) -> こ | G42: 10 | H42: =IF($G42="","",VLOOKUP($G42,データ入力シート!$B$9:$C$26,2,FALSE)) -> こ | J42: 10 | K42: =IF($J42="","",VLOOKUP($J42,データ入力シート!$B$9:$C$26,2,FALSE)) -> こ
A43: 11 | B43: =IF($A43="","",VLOOKUP($A43,データ入力シート!$B$9:$C$26,2,FALSE)) -> さ | D43: 11 | E43: =IF($D43="","",VLOOKUP($D43,データ入力シート!$B$9:$C$26,2,FALSE)) -> さ | G43: 11 | H43: =IF($G43="","",VLOOKUP($G43,データ入力シート!$B$9:$C$26,2,FALSE)) -> さ | J43: 11 | K43: =IF($J43="","",VLOOKUP($J43,データ入力シート!$B$9:$C$26,2,FALSE)) -> さ
A44: 12 | B44: =IF($A44="","",VLOOKUP($A44,データ入力シート!$B$9:$C$26,2,FALSE)) -> し | D44: 12 | E44: =IF($D44="","",VLOOKUP($D44,データ入力シート!$B$9:$C$26,2,FALSE)) -> し | G44: 12 | H44: =IF($G44="","",VLOOKUP($G44,データ入力シート!$B$9:$C$26,2,FALSE)) -> し | J44: 12 | K44: =IF($J44="","",VLOOKUP($J44,データ入力シート!$B$9:$C$26,2,FALSE)) -> し
A45: 13 | B45: =IF($A45="","",VLOOKUP($A45,データ入力シート!$B$9:$C$26,2,FALSE)) -> す | D45: 13 | E45: =IF($D45="","",VLOOKUP($D45,データ入力シート!$B$9:$C$26,2,FALSE)) -> す | G45: 13 | H45: =IF($G45="","",VLOOKUP($G45,データ入力シート!$B$9:$C$26,2,FALSE)) -> す | K45: =IF($J45="","",VLOOKUP($J45,データ入力シート!$B$9:$C$26,2,FALSE))
...
