Workbook

Sheet 入力シート
A1: 令和7年度 第78回全日本バレーボール高等学校選手権大会 参加申込書作成用入力シート
B3: 申込年月日 | G3: 令和7年○月○日で入力。
B4: チーム性別 | G4: リストから選択
B5: 学校名 | I5: 宮崎県立は省き、○○高等学校と入力する。
B6: 所在地
C7: 住所
C8: 電話番号 | G8: 半角数字で入力。ハイフンを入れる。0000-00-0000
B9: 学校長名 | G9: 姓と名の間に全角スペースを１つ入れる
B11: 監督名 | G11: 姓と名の間に全角スペースを１つ入れる。外部指導者は名前の後に（外）
B12: コーチ名 | G12: 姓と名の間に全角スペースを１つ入れる。外部指導者は名前の後に（外）
B13: ﾏﾈｰｼﾞｬｰ名 | G13: 姓と名の間に全角スペースを１つ入れる | Q13: 1
B14: 記録員名 | G14: 姓と名の間に全角スペースを１つ入れる
B15: 随行審判員 | G15: 姓と名の間に全角スペースを１つ入れる。不在の場合は未入力。
B16: 資格 | G16: リストから選択。不在の場合は未入力。
B17: 主将名 | G17: 姓と名の間に全角スペースを１つ入れる
B19: 登録選手 | D19: ※背番号の昇順（１，２，３･･･）に上から詰めて入力してください
B20: 背番号 | D20: 選手名 | E20: 学年 | F20: 身長 | G20: 出身中 | K20: 男子
A21: 例 | B21: 4 | D21: 宮崎 太郎 | E21: 2 | F21: 175 | G21: 宮崎 | K21: 女子
H22: 上から18名が申込に反映されます | K22: A級
K23: B級
K24: C級
K25: MVA
K26: 国際
B62: ※主将の背番号は○囲み数字を入力(①②など）
B63: ※姓と名の間に全角スペースを１つ入れる。
B64: ※氏名が6文字を超える場合はスペースは入れない。
B65: ※出身中には中学校や中を入れずに入力する。
B66: ※記載した選手はプログラムに掲載されます。
B67: ※40名まで記載できますが、部員数が多く入力欄が足りない場合は、連絡ください。

Sheet 申込
A1: 第 78 回 全日本バレーボール高等学校選手権大会
A2: 宮崎県大会参加申込書
A3: 男・女 | C3: =IF(入力シート!E4="","",入力シート!E4)
A4: 学校名 | C4: =IF(入力シート!E5="","",入力シート!E5) | D4: 所在地 | E4: =IF(入力シート!E7="","",入力シート!E7)
E5: ℡ | F5: =IF(入力シート!E8="","",入力シート!E8)
A6: 監督名 | C6: =IF(入力シート!E11="","",入力シート!E11) | D6: コーチ | E6: =IF(入力シート!E12="","",入力シート!E12)
A7: ﾏﾈｰｼﾞｬｰ | C7: =IF(入力シート!E13="","",入力シート!E13) | D7: 記録員 | E7: =IF(入力シート!E14="","",入力シート!E14)
A8: 主将 | C8: =IF(入力シート!E17="","",入力シート!E17) | D8: 随行審判員 | E8: =IF(入力シート!E15="","",入力シート!E15) | G8: 資格 | H8: =IF(入力シート!E16="","",入力シート!E16)
A11: 番号 | B11: 氏名 | D11: 学年 | E11: 身長 | F11: 出身中
A12: =IF(入力シート!B22="","",入力シート!B22) | B12: =IF(入力シート!D22="","",入力シート!D22) | D12: =IF(入力シート!E22="","",入力シート!E22) | E12: =IF(入力シート!F22="","",入力シート!F22) | F12: =IF(入力シート!G22="","",入力シート!G22) | H12: =IF(入力シート!I22="","",入力シート!I22)
A13: =IF(入力シート!B23="","",入力シート!B23) | B13: =IF(入力シート!D23="","",入力シート!D23) | D13: =IF(入力シート!E23="","",入力シート!E23) | E13: =IF(入力シート!F23="","",入力シート!F23) | F13: =IF(入力シート!G23="","",入力シート!G23) | H13: =IF(入力シート!I23="","",入力シート!I23)
A14: =IF(入力シート!B24="","",入力シート!B24) | B14: =IF(入力シート!D24="","",入力シート!D24) | D14: =IF(入力シート!E24="","",入力シート!E24) | E14: =IF(入力シート!F24="","",入力シート!F24) | F14: =IF(入力シート!G24="","",入力シート!G24) | H14: =IF(入力シート!I24="","",入力シート!I24)
A15: =IF(入力シート!B25="","",入力シート!B25) | B15: =IF(入力シート!D25="","",入力シート!D25) | D15: =IF(入力シート!E25="","",入力シート!E25) | E15: =IF(入力シート!F25="","",入力シート!F25) | F15: =IF(入力シート!G25="","",入力シート!G25) | H15: =IF(入力シート!I25="","",入力シート!I25)
A16: =IF(入力シート!B26="","",入力シート!B26) | B16: =IF(入力シート!D26="","",入力シート!D26) | D16: =IF(入力シート!E26="","",入力シート!E26) | E16: =IF(入力シート!F26="","",入力シート!F26) | F16: =IF(入力シート!G26="","",入力シート!G26) | H16: =IF(入力シート!I26="","",入力シート!I26)
A17: =IF(入力シート!B27="","",入力シート!B27) | B17: =IF(入力シート!D27="","",入力シート!D27) | D17: =IF(入力シート!E27="","",入力シート!E27) | E17: =IF(入力シート!F27="","",入力シート!F27) | F17: =IF(入力シート!G27="","",入力シート!G27) | H17: =IF(入力シート!I27="","",入力シート!I27)
A18: =IF(入力シート!B28="","",入力シート!B28) | B18: =IF(入力シート!D28="","",入力シート!D28) | D18: =IF(入力シート!E28="","",入力シート!E28) | E18: =IF(入力シート!F28="","",入力シート!F28) | F18: =IF(入力シート!G28="","",入力シート!G28) | H18: =IF(入力シート!I28="","",入力シート!I28)
A19: =IF(入力シート!B29="","",入力シート!B29) | B19: =IF(入力シート!D29="","",入力シート!D29) | D19: =IF(入力シート!E29="","",入力シート!E29) | E19: =IF(入力シート!F29="","",入力シート!F29) | F19: =IF(入力シート!G29="","",入力シート!G29) | H19: =IF(入力シート!I29="","",入力シート!I29)
A20: =IF(入力シート!B30="","",入力シート!B30) | B20: =IF(入力シート!D30="","",入力シート!D30) | D20: =IF(入力シート!E30="","",入力シート!E30) | E20: =IF(入力シート!F30="","",入力シート!F30) | F20: =IF(入力シート!G30="","",入力シート!G30) | H20: =IF(入力シート!I30="","",入力シート!I30)
A21: =IF(入力シート!B31="","",入力シート!B31) | B21: =IF(入力シート!D31="","",入力シート!D31) | D21: =IF(入力シート!E31="","",入力シート!E31) | E21: =IF(入力シート!F31="","",入力シート!F31) | F21: =IF(入力シート!G31="","",入力シート!G31) | H21: =IF(入力シート!I31="","",入力シート!I31)
A22: =IF(入力シート!B32="","",入力シート!B32) | B22: =IF(入力シート!D32="","",入力シート!D32) | D22: =IF(入力シート!E32="","",入力シート!E32) | E22: =IF(入力シート!F32="","",入力シート!F32) | F22: =IF(入力シート!G32="","",入力シート!G32) | H22: =IF(入力シート!I32="","",入力シート!I32)
A23: =IF(入力シート!B33="","",入力シート!B33) | B23: =IF(入力シート!D33="","",入力シート!D33) | D23: =IF(入力シート!E33="","",入力シート!E33) | E23: =IF(入力シート!F33="","",入力シート!F33) | F23: =IF(入力シート!G33="","",入力シート!G33) | H23: =IF(入力シート!I33="","",入力シート!I33)
... A26: =IF(入力シート!B36="","",入力シート!B36) | B26: =IF(入力シート!D36="","",入力シート!D36) | D26: =IF(入力シート!E36="","",入力シート!E36) | E26: =IF(入力シート!F36="","",入力シート!F36) | F26: =IF(入力シート!G36="","",入力シート!G36) | H26: =IF(入力シート!I36="","",入力シート!I36)
A27: =IF(入力シート!B37="","",入力シート!B37) | B27: =IF(入力シート!D37="","",入力シート!D37) | D27: =IF(入力シート!E37="","",入力シート!E37) | E27: =IF(入力シート!F37="","",入力シート!F37) | F27: =IF(入力シート!G37="","",入力シート!G37) | H27: =IF(入力シート!I54="","",入力シート!I54)
A28: =IF(入力シート!B38="","",入力シート!B38) | B28: =IF(入力シート!D38="","",入力シート!D38) | D28: =IF(入力シート!E38="","",入力シート!E38) | E28: =IF(入力シート!F38="","",入力シート!F38) | F28: =IF(入力シート!G38="","",入力シート!G38) | H28: =IF(入力シート!I55="","",入力シート!I55)
A29: =IF(入力シート!B39="","",入力シート!B39) | B29: =IF(入力シート!D39="","",入力シート!D39) | D29: =IF(入力シート!E39="","",入力シート!E39) | E29: =IF(入力シート!F39="","",入力シート!F39) | F29: =IF(入力シート!G39="","",入力シート!G39) | H29: =IF(入力シート!I61="","",入力シート!I61)
A30: ※個人に関する情報をパンフレットに掲載することに承諾し参加申込みいたします。
C32: 学校代表者 | D32: 住所 | E32: =IF(入力シート!E7="","",入力シート!E7)
D33: 氏名 | E33: =IF(入力シート!E9="","",入力シート!E9) | H33: 印

Sheet ﾌﾟﾛｸﾞﾗﾑ用
B1: =IF(入力シート!E5="","",入力シート!E5)
C3: 監 督 | D3: =IF(入力シート!E11="","",入力シート!E11) | H3: コーチ | I3: =IF(入力シート!E12="","",入力シート!E12)
C4: マネージャー | D4: =IF(入力シート!E13="","",入力シート!E13) | H4: 記録員 | I4: =IF(入力シート!E14="","",入力シート!E14)
B5: № | C5: 氏 名 | D5: 学年 | E5: 身長 | F5: 出身中 | G5: № | H5: 氏 名 | I5: 学年 | J5: 身長 | K5: 出身中
B6: =IF(入力シート!B22="","",入力シート!B22) | C6: =IF(入力シート!D22="","",入力シート!D22) | D6: =IF(入力シート!E22="","",入力シート!E22) | E6: =IF(入力シート!F22="","",入力シート!F22) | F6: =IF(入力シート!G22="","",入力シート!G22) | G6: =IF(入力シート!B42="","",入力シート!B42) | H6: =IF(入力シート!D42="","",入力シート!D42) | I6: =IF(入力シート!E42="","",入力シート!E42) | J6: =IF(入力シート!F42="","",入力シート!F42) | K6: =IF(入力シート!G42="","",入力シート!G42)
B7: =IF(入力シート!B23="","",入力シート!B23) | C7: =IF(入力シート!D23="","",入力シート!D23) | D7: =IF(入力シート!E23="","",入力シート!E23) | E7: =IF(入力シート!F23="","",入力シート!F23) | F7: =IF(入力シート!G23="","",入力シート!G23) | G7: =IF(入力シート!B43="","",入力シート!B43) | H7: =IF(入力シート!D43="","",入力シート!D43) | I7: =IF(入力シート!E43="","",入力シート!E43) | J7: =IF(入力シート!F43="","",入力シート!F43) | K7: =IF(入力シート!G43="","",入力シート!G43)
B8: =IF(入力シート!B24="","",入力シート!B24) | C8: =IF(入力シート!D24="","",入力シート!D24) | D8: =IF(入力シート!E24="","",入力シート!E24) | E8: =IF(入力シート!F24="","",入力シート!F24) | F8: =IF(入力シート!G24="","",入力シート!G24) | G8: =IF(入力シート!B44="","",入力シート!B44) | H8: =IF(入力シート!D44="","",入力シート!D44) | I8: =IF(入力シート!E44="","",入力シート!E44) | J8: =IF(入力シート!F44="","",入力シート!F44) | K8: =IF(入力シート!G44="","",入力シート!G44)
B9: =IF(入力シート!B25="","",入力シート!B25) | C9: =IF(入力シート!D25="","",入力シート!D25) | D9: =IF(入力シート!E25="","",入力シート!E25) | E9: =IF(入力シート!F25="","",入力シート!F25) | F9: =IF(入力シート!G25="","",入力シート!G25) | G9: =IF(入力シート!B45="","",入力シート!B45) | H9: =IF(入力シート!D45="","",入力シート!D45) | I9: =IF(入力シート!E45="","",入力シート!E45) | J9: =IF(入力シート!F45="","",入力シート!F45) | K9: =IF(入力シート!G45="","",入力シート!G45)
B10: =IF(入力シート!B26="","",入力シート!B26) | C10: =IF(入力シート!D26="","",入力シート!D26) | D10: =IF(入力シート!E26="","",入力シート!E26) | E10: =IF(入力シート!F26="","",入力シート!F26) | F10: =IF(入力シート!G26="","",入力シート!G26) | G10: =IF(入力シート!B46="","",入力シート!B46) | H10: =IF(入力シート!D46="","",入力シート!D46) | I10: =IF(入力シート!E46="","",入力シート!E46) | J10: =IF(入力シート!F46="","",入力シート!F46) | K10: =IF(入力シート!G46="","",入力シート!G46)
B11: =IF(入力シート!B27="","",入力シート!B27) | C11: =IF(入力シート!D27="","",入力シート!D27) | D11: =IF(入力シート!E27="","",入力シート!E27) | E11: =IF(入力シート!F27="","",入力シート!F27) | F11: =IF(入力シート!G27="","",入力シート!G27) | G11: =IF(入力シート!B47="","",入力シート!B47) | H11: =IF(入力シート!D47="","",入力シート!D47) | I11: =IF(入力シート!E47="","",入力シート!E47) | J11: =IF(入力シート!F47="","",入力シート!F47) | K11: =IF(入力シート!G47="","",入力シート!G47)
B12: =IF(入力シート!B28="","",入力シート!B28) | C12: =IF(入力シート!D28="","",入力シート!D28) | D12: =IF(入力シート!E28="","",入力シート!E28) | E12: =IF(入力シート!F28="","",入力シート!F28) | F12: =IF(入力シート!G28="","",入力シート!G28) | G12: =IF(入力シート!B48="","",入力シート!B48) | H12: =IF(入力シート!D48="","",入力シート!D48) | I12: =IF(入力シート!E48="","",入力シート!E48) | J12: =IF(入力シート!F48="","",入力シート!F48) | K12: =IF(入力シート!G48="","",入力シート!G48)
B13: =IF(入力シート!B29="","",入力シート!B29) | C13: =IF(入力シート!D29="","",入力シート!D29) | D13: =IF(入力シート!E29="","",入力シート!E29) | E13: =IF(入力シート!F29="","",入力シート!F29) | F13: =IF(入力シート!G29="","",入力シート!G29) | G13: =IF(入力シート!B49="","",入力シート!B49) | H13: =IF(入力シート!D49="","",入力シート!D49) | I13: =IF(入力シート!E49="","",入力シート!E49) | J13: =IF(入力シート!F49="","",入力シート!F49) | K13: =IF(入力シート!G49="","",入力シート!G49)
B14: =IF(入力シート!B30="","",入力シート!B30) | C14: =IF(入力シート!D30="","",入力シート!D30) | D14: =IF(入力シート!E30="","",入力シート!E30) | E14: =IF(入力シート!F30="","",入力シート!F30) | F14: =IF(入力シート!G30="","",入力シート!G30) | G14: =IF(入力シート!B50="","",入力シート!B50) | H14: =IF(入力シート!D50="","",入力シート!D50) | I14: =IF(入力シート!E50="","",入力シート!E50) | J14: =IF(入力シート!F50="","",入力シート!F50) | K14: =IF(入力シート!G50="","",入力シート!G50)
B15: =IF(入力シート!B31="","",入力シート!B31) | C15: =IF(入力シート!D31="","",入力シート!D31) | D15: =IF(入力シート!E31="","",入力シート!E31) | E15: =IF(入力シート!F31="","",入力シート!F31) | F15: =IF(入力シート!G31="","",入力シート!G31) | G15: =IF(入力シート!B51="","",入力シート!B51) | H15: =IF(入力シート!D51="","",入力シート!D51) | I15: =IF(入力シート!E51="","",入力シート!E51) | J15: =IF(入力シート!F51="","",入力シート!F51) | K15: =IF(入力シート!G51="","",入力シート!G51)
B16: =IF(入力シート!B32="","",入力シート!B32) | C16: =IF(入力シート!D32="","",入力シート!D32) | D16: =IF(入力シート!E32="","",入力シート!E32) | E16: =IF(入力シート!F32="","",入力シート!F32) | F16: =IF(入力シート!G32="","",入力シート!G32) | G16: =IF(入力シート!B52="","",入力シート!B52) | H16: =IF(入力シート!D52="","",入力シート!D52) | I16: =IF(入力シート!E52="","",入力シート!E52) | J16: =IF(入力シート!F52="","",入力シート!F52) | K16: =IF(入力シート!G52="","",入力シート!G52)
B17: =IF(入力シート!B33="","",入力シート!B33) | C17: =IF(入力シート!D33="","",入力シート!D33) | D17: =IF(入力シート!E33="","",入力シート!E33) | E17: =IF(入力シート!F33="","",入力シート!F33) | F17: =IF(入力シート!G33="","",入力シート!G33) | G17: =IF(入力シート!B53="","",入力シート!B53) | H17: =IF(入力シート!D53="","",入力シート!D53) | I17: =IF(入力シート!E53="","",入力シート!E53) | J17: =IF(入力シート!F53="","",入力シート!F53) | K17: =IF(入力シート!G53="","",入力シート!G53)
... B25: =IF(入力シート!B41="","",入力シート!B41) | C25: =IF(入力シート!D41="","",入力シート!D41) | D25: =IF(入力シート!E41="","",入力シート!E41) | E25: =IF(入力シート!F41="","",入力シート!F41) | F25: =IF(入力シート!G41="","",入力シート!G41) | G25: =IF(入力シート!B61="","",入力シート!B61) | H25: =IF(入力シート!D61="","",入力シート!D61) | I25: =IF(入力シート!E61="","",入力シート!E61) | J25: =IF(入力シート!F61="","",入力シート!F61) | K25: =IF(入力シート!G61="","",入力シート!G61)
